BEGIN:VCALENDAR
VERSION:2.0
PRODID:-//wp-events-plugin.com//7.2.3.1//EN
TZID:Europe/Berlin
X-WR-TIMEZONE:Europe/Berlin
BEGIN:VEVENT
UID:7@vegan-miltenberg.de
DTSTART;TZID=Europe/Berlin;VALUE=DATE:20260717
DTEND;TZID=Europe/Berlin;VALUE=DATE:20260720
DTSTAMP:20260102T212920Z
URL:https://vegan-miltenberg.de/events/zimmer-31/
SUMMARY:Zimmer 31
DESCRIPTION:Zimmer 31 hat 4 Betten\nKinder unter 4 Jahren\, die kein Bett b
 enötigen\, sind kostenfrei\, diese bitte im Kommentarfeld unten angeben.\
 nEs befinden sich keine Hochstühle vor Ort\, bitte selbst mitbringen sofe
 rn welche benötigt werden.\nBitte unbedingt an eigenes Spannbettlaken\, K
 opfkissen\, Bettdecken/Schlafsack und Handtücher denken!\nAlle Preise gel
 ten für den gesamten Aufenthalt von Freitag 16 Uhr bis Sonntag inklusive 
 Essen. \nVon der Mitnahme eigener Getränke ist abzusehen. Getränke sind 
 gegen einen kleinen Obulus vorhanden.\nAngemeldet gilt diejenige oder derj
 enige\, dessen Anmeldungsmail nach Zahlungseingang der Teilnahmegebühr vo
 n uns zurück bestätigt wurde.\nHunde müssen mit Gruppen\, Kindern und a
 nderen Lebewesen verträglich sein. Innerhalb des Geländes gilt Leinenpfl
 icht!\n&nbsp\;
END:VEVENT
BEGIN:VTIMEZONE
TZID:Europe/Berlin
X-LIC-LOCATION:Europe/Berlin
BEGIN:DAYLIGHT
DTSTART:20260329T030000
TZOFFSETFROM:+0100
TZOFFSETTO:+0200
TZNAME:CEST
END:DAYLIGHT
END:VTIMEZONE
END:VCALENDAR